BEGIN:VCALENDAR
VERSION:2.0
PRODID:-//Insurance Journal//Webcasts//EN
METHOD:PUBLISH
BEGIN:VEVENT
UID:9e8be771410183fc87832d40f5b47e49
DTSTART:20260604T173000Z
DTEND:20260604T183000Z
DTSTAMP:20260424T154736Z
ORGANIZER:MAILTO:webcasts@insurancejournal.com
LOCATION:https://www.ijacademy.com/
SUMMARY:Saving Commercial Property Insureds from an Epic Coverage Fail
DESCRIPTION:To join this webcast\, click this link https://www.ijacademy.com/
BEGIN:VALARM
ACTION:DISPLAY
TRIGGER:-PT30M
DURATION:PT10M
REPEAT:2
DESCRIPTION:Insurance Journal Webcast: Saving Commercial Property Insureds from an Epic Coverage Fail
END:VALARM
END:VEVENT
END:VCALENDAR
