BEGIN:VCALENDAR
VERSION:2.0
PRODID:-//Insurance Journal//Webcasts//EN
METHOD:PUBLISH
BEGIN:VEVENT
UID:908bd6a99117db4b8e45d02e82bb4004
DTSTART:20260618T173000Z
DTEND:20260618T183000Z
DTSTAMP:20260421T051355Z
ORGANIZER:MAILTO:webcasts@insurancejournal.com
LOCATION:https://www.ijacademy.com/
SUMMARY:Agency Best Practices Revisited: Why The Order Taker Standard Does NOT Work to Your Detriment
DESCRIPTION:To join this webcast\, click this link https://www.ijacademy.com/
BEGIN:VALARM
ACTION:DISPLAY
TRIGGER:-PT30M
DURATION:PT10M
REPEAT:2
DESCRIPTION:Insurance Journal Webcast: Agency Best Practices Revisited: Why The Order Taker Standard Does NOT Work to Your Detriment
END:VALARM
END:VEVENT
END:VCALENDAR
