BEGIN:VCALENDAR
VERSION:2.0
PRODID:-//Insurance Journal//Webcasts//EN
METHOD:PUBLISH
BEGIN:VEVENT
UID:55f544d4106614c8f6d9fb7057001d5c
DTSTART:20261105T183000Z
DTEND:20261105T193000Z
DTSTAMP:20260421T174258Z
ORGANIZER:MAILTO:webcasts@insurancejournal.com
LOCATION:https://www.ijacademy.com/
SUMMARY:2026 ISO CGL Endorsements. The New\, The Updated\, and The Totally Expected
DESCRIPTION:To join this webcast\, click this link https://www.ijacademy.com/
BEGIN:VALARM
ACTION:DISPLAY
TRIGGER:-PT30M
DURATION:PT10M
REPEAT:2
DESCRIPTION:Insurance Journal Webcast: 2026 ISO CGL Endorsements. The New\, The Updated\, and The Totally Expected
END:VALARM
END:VEVENT
END:VCALENDAR
